BEGIN:VCALENDAR
VERSION:2.0
PRODID:-//Consorcio Lechero - ECPv5.11.0//NONSGML v1.0//EN
CALSCALE:GREGORIAN
METHOD:PUBLISH
X-WR-CALNAME:Consorcio Lechero
X-ORIGINAL-URL:https://consorciolechero.cl
X-WR-CALDESC:Eventos para Consorcio Lechero
BEGIN:VTIMEZONE
TZID:UTC
BEGIN:STANDARD
TZOFFSETFROM:+0000
TZOFFSETTO:+0000
TZNAME:UTC
DTSTART:20230101T000000
END:STANDARD
END:VTIMEZONE
BEGIN:VEVENT
DTSTART;TZID=UTC:20230419T100000
DTEND;TZID=UTC:20230419T170000
DTSTAMP:20260424T110517
CREATED:20230405T130052Z
LAST-MODIFIED:20230405T130052Z
UID:4980-1681898400-1681923600@consorciolechero.cl
SUMMARY:Día de campo 2023 by Field Days Chile
DESCRIPTION:Expositores\nShoof\, Cooprinsem\, ABS\, Ferosor\, Gallagher y Aitec \nOrganiza\nNew Zealand -Agroeficiente NZ \nContacto\nwww.agroeficientenz.com
URL:https://consorciolechero.cl/eventos/dia-de-campo-2023-by-field-days-chile/
END:VEVENT
END:VCALENDAR