BEGIN:VCALENDAR
VERSION:2.0
PRODID:-//Consorcio Lechero - ECPv5.11.0//NONSGML v1.0//EN
CALSCALE:GREGORIAN
METHOD:PUBLISH
X-WR-CALNAME:Consorcio Lechero
X-ORIGINAL-URL:https://consorciolechero.cl
X-WR-CALDESC:Eventos para Consorcio Lechero
BEGIN:VTIMEZONE
TZID:UTC
BEGIN:STANDARD
TZOFFSETFROM:+0000
TZOFFSETTO:+0000
TZNAME:UTC
DTSTART:20230101T000000
END:STANDARD
END:VTIMEZONE
BEGIN:VEVENT
DTSTART;TZID=UTC:20230822T080000
DTEND;TZID=UTC:20230823T170000
DTSTAMP:20260424T123845
CREATED:20230717T184936Z
LAST-MODIFIED:20230717T184936Z
UID:5376-1692691200-1692810000@consorciolechero.cl
SUMMARY:ExpoChile Agrícola
DESCRIPTION:Organiza\nFucoa y Minagri \nLink/Contacto \nHome Registro 2023
URL:https://consorciolechero.cl/eventos/expochile-agricola/
END:VEVENT
END:VCALENDAR