BEGIN:VCALENDAR
VERSION:2.0
PRODID:-//Consorcio Lechero - ECPv5.11.0//NONSGML v1.0//EN
CALSCALE:GREGORIAN
METHOD:PUBLISH
X-WR-CALNAME:Consorcio Lechero
X-ORIGINAL-URL:https://consorciolechero.cl
X-WR-CALDESC:Eventos para Consorcio Lechero
BEGIN:VTIMEZONE
TZID:UTC
BEGIN:STANDARD
TZOFFSETFROM:+0000
TZOFFSETTO:+0000
TZNAME:UTC
DTSTART:20240101T000000
END:STANDARD
END:VTIMEZONE
BEGIN:VEVENT
DTSTART;TZID=UTC:20240311T080000
DTEND;TZID=UTC:20240311T170000
DTSTAMP:20260422T065708
CREATED:20231229T135719Z
LAST-MODIFIED:20231229T135743Z
UID:5672-1710144000-1710176400@consorciolechero.cl
SUMMARY:Fundamentos de la Quesería
DESCRIPTION:Organiza\nFederación Panamericana de la Lechería\, Fepale \nLink / Contacto \nInstituto de Capacitación para el Sector Lácteo – FEPALE
URL:https://consorciolechero.cl/eventos/fundamentos-de-la-queseria/
CATEGORIES:Eventos
END:VEVENT
END:VCALENDAR