BEGIN:VCALENDAR
VERSION:2.0
PRODID:-//Consorcio Lechero - ECPv5.11.0//NONSGML v1.0//EN
CALSCALE:GREGORIAN
METHOD:PUBLISH
X-WR-CALNAME:Consorcio Lechero
X-ORIGINAL-URL:https://consorciolechero.cl
X-WR-CALDESC:Eventos para Consorcio Lechero
BEGIN:VTIMEZONE
TZID:UTC
BEGIN:STANDARD
TZOFFSETFROM:+0000
TZOFFSETTO:+0000
TZNAME:UTC
DTSTART:20250101T000000
END:STANDARD
END:VTIMEZONE
BEGIN:VEVENT
DTSTART;TZID=UTC:20250212T173000
DTEND;TZID=UTC:20250212T173000
DTSTAMP:20260425T163208
CREATED:20250207T154034Z
LAST-MODIFIED:20250207T154034Z
UID:6399-1739381400-1739381400@consorciolechero.cl
SUMMARY:Presentación del prototipo “Sistema de Alerta Temprana y Monitoreo de Estrés Calórico para Ganado Lechero en Chile”.
DESCRIPTION:Expositores\nRodrigo Arias\, Enrique Bombal\, Reinaldo Pinto \nOrganiza\nUach\, De Laval\, Aproval\, Consorcio Lechero\, FIA \nlink\nhttps://forms.gle/FieGVnTGxsnfL9Qw6
URL:https://consorciolechero.cl/eventos/presentacion-del-prototipo-sistema-de-alerta-temprana-y-monitoreo-de-estres-calorico-para-ganado-lechero-en-chile/
CATEGORIES:Eventos
END:VEVENT
END:VCALENDAR