BEGIN:VCALENDAR
VERSION:2.0
PRODID:-//Consorcio Lechero - ECPv5.11.0//NONSGML v1.0//EN
CALSCALE:GREGORIAN
METHOD:PUBLISH
X-WR-CALNAME:Consorcio Lechero
X-ORIGINAL-URL:https://consorciolechero.cl
X-WR-CALDESC:Eventos para Consorcio Lechero
BEGIN:VTIMEZONE
TZID:UTC
BEGIN:STANDARD
TZOFFSETFROM:+0000
TZOFFSETTO:+0000
TZNAME:UTC
DTSTART:20240101T000000
END:STANDARD
END:VTIMEZONE
BEGIN:VEVENT
DTSTART;TZID=UTC:20240326T080000
DTEND;TZID=UTC:20240326T170000
DTSTAMP:20260422T052800
CREATED:20240322T141728Z
LAST-MODIFIED:20240322T141728Z
UID:5899-1711440000-1711472400@consorciolechero.cl
SUMMARY:Primera Jornada de Riego Ferosor
DESCRIPTION:Organiza\nFerosor \nContacto\nriego@ferosor.cl
URL:https://consorciolechero.cl/eventos/primera-jornada-de-riego-ferosor/
CATEGORIES:Eventos
END:VEVENT
END:VCALENDAR