BEGIN:VCALENDAR
VERSION:2.0
PRODID:-//Consorcio Lechero - ECPv5.11.0//NONSGML v1.0//EN
CALSCALE:GREGORIAN
METHOD:PUBLISH
X-WR-CALNAME:Consorcio Lechero
X-ORIGINAL-URL:https://consorciolechero.cl
X-WR-CALDESC:Eventos para Consorcio Lechero
BEGIN:VTIMEZONE
TZID:UTC
BEGIN:STANDARD
TZOFFSETFROM:+0000
TZOFFSETTO:+0000
TZNAME:UTC
DTSTART:20220101T000000
END:STANDARD
END:VTIMEZONE
BEGIN:VEVENT
DTSTART;TZID=UTC:20221206T173000
DTEND;TZID=UTC:20221206T173000
DTSTAMP:20260423T092341
CREATED:20221124T115511Z
LAST-MODIFIED:20221124T115511Z
UID:4484-1670347800-1670347800@consorciolechero.cl
SUMMARY:Seminario Online: Diseño de remuneraciones en lechería: Cumple la normativa y mejora la productividad del campo
DESCRIPTION:FECHA:\n06 de diciembre \nHORA:\n1730 hrs. \nORGANIZA:\nAgrolaboral \nCONTACTO:\ninfo@agrolaboral.cl ó al cel +56 9 4451 9133
URL:https://consorciolechero.cl/eventos/seminario-online-diseno-de-remuneraciones-en-lecheria-cumple-la-normativa-y-mejora-la-productividad-del-campo/
CATEGORIES:Eventos
END:VEVENT
END:VCALENDAR