BEGIN:VCALENDAR
VERSION:2.0
PRODID:-//Consorcio Lechero - ECPv5.11.0//NONSGML v1.0//EN
CALSCALE:GREGORIAN
METHOD:PUBLISH
X-WR-CALNAME:Consorcio Lechero
X-ORIGINAL-URL:https://consorciolechero.cl
X-WR-CALDESC:Eventos para Consorcio Lechero
BEGIN:VTIMEZONE
TZID:UTC
BEGIN:STANDARD
TZOFFSETFROM:+0000
TZOFFSETTO:+0000
TZNAME:UTC
DTSTART:20230101T000000
END:STANDARD
END:VTIMEZONE
BEGIN:VEVENT
DTSTART;TZID=UTC:20230510T140000
DTEND;TZID=UTC:20230510T170000
DTSTAMP:20260424T081831
CREATED:20230508T215944Z
LAST-MODIFIED:20230508T215944Z
UID:5092-1683727200-1683738000@consorciolechero.cl
SUMMARY:X Seminario Mujeres Líderes
DESCRIPTION:Expositores\nMaría Paz Díaz\, Katherine Salosny\, Pilar Sordo \nOrganiza\nAproleche Osorno \nContacto\nwww.aproleche.cl
URL:https://consorciolechero.cl/eventos/x-seminario-mujeres-lideres/
END:VEVENT
END:VCALENDAR