BEGIN:VCALENDAR
VERSION:2.0
PRODID:-//Consorcio Lechero - ECPv5.11.0//NONSGML v1.0//EN
CALSCALE:GREGORIAN
METHOD:PUBLISH
X-WR-CALNAME:Consorcio Lechero
X-ORIGINAL-URL:https://consorciolechero.cl
X-WR-CALDESC:Eventos para Consorcio Lechero
BEGIN:VTIMEZONE
TZID:UTC
BEGIN:STANDARD
TZOFFSETFROM:+0000
TZOFFSETTO:+0000
TZNAME:UTC
DTSTART:20220101T000000
END:STANDARD
END:VTIMEZONE
BEGIN:VEVENT
DTSTART;VALUE=DATE:20221129
DTEND;VALUE=DATE:20221202
DTSTAMP:20260419T153418
CREATED:20221108T173220Z
LAST-MODIFIED:20221108T173220Z
UID:4334-1669680000-1669939199@consorciolechero.cl
SUMMARY:XLVII Congreso Sochipa: Producción animal: Estrategias frente a los nuevos desafíos mundiales
DESCRIPTION:FECHA:\n29\, 30 de noviembre y 1 de diciembre \nORGANIZA:\nSociedad Chilena de Producción Animal\, Sochipa e Inia Tamel Aike \nCONTACTO:\nInstagram graciasalalechecl
URL:https://consorciolechero.cl/eventos/xlvii-congreso-sochipa-produccion-animal-estrategias-frente-a-los-nuevos-desafios-mundiales/
CATEGORIES:Eventos
END:VEVENT
END:VCALENDAR